BEGIN:VCALENDAR
VERSION:2.0
PRODID:-//PTT - ECPv6.15.18//NONSGML v1.0//EN
CALSCALE:GREGORIAN
METHOD:PUBLISH
X-ORIGINAL-URL:https://lesptts.net
X-WR-CALDESC:Évènements pour PTT
REFRESH-INTERVAL;VALUE=DURATION:PT1H
X-Robots-Tag:noindex
X-PUBLISHED-TTL:PT1H
BEGIN:VTIMEZONE
TZID:Europe/Paris
BEGIN:DAYLIGHT
TZOFFSETFROM:+0100
TZOFFSETTO:+0200
TZNAME:CEST
DTSTART:20210328T010000
END:DAYLIGHT
BEGIN:STANDARD
TZOFFSETFROM:+0200
TZOFFSETTO:+0100
TZNAME:CET
DTSTART:20211031T010000
END:STANDARD
BEGIN:DAYLIGHT
TZOFFSETFROM:+0100
TZOFFSETTO:+0200
TZNAME:CEST
DTSTART:20220327T010000
END:DAYLIGHT
BEGIN:STANDARD
TZOFFSETFROM:+0200
TZOFFSETTO:+0100
TZNAME:CET
DTSTART:20221030T010000
END:STANDARD
BEGIN:DAYLIGHT
TZOFFSETFROM:+0100
TZOFFSETTO:+0200
TZNAME:CEST
DTSTART:20230326T010000
END:DAYLIGHT
BEGIN:STANDARD
TZOFFSETFROM:+0200
TZOFFSETTO:+0100
TZNAME:CET
DTSTART:20231029T010000
END:STANDARD
END:VTIMEZONE
BEGIN:VEVENT
DTSTART;TZID=Europe/Paris:20220204T203000
DTEND;TZID=Europe/Paris:20220204T230000
DTSTAMP:20260422T110040
CREATED:20220128T135927Z
LAST-MODIFIED:20220128T141103Z
UID:1198-1644006600-1644015600@lesptts.net
SUMMARY:Présentation-débat « Contre la résilience »
DESCRIPTION:Thierry Ribault\, chercheur en sciences\nsociales au CNRS\, nous présentera son\nouvrage « Contre la résilience\, à\nFukushima et ailleurs » (l’Échappée\n2021). Vivant au Japon à l’époque de\nl’accident nucléaire de Fukushima\, il a\ntiré de ses observations une théorie très\ncritique de cette notion.\nEntrée libre et ouverte à tou·te·s.
URL:https://lesptts.net/calendrier/presentation-debat-contre-la-resilience/
LOCATION:Cybercafé des PTT\, 1 avenue Briand\, TARNAC\, 19170\, France
CATEGORIES:Conférence
ATTACH;FMTTYPE=image/jpeg:https://lesptts.net/wp-content/uploads/2022/01/Resilience-page001.jpg
END:VEVENT
END:VCALENDAR